BEGIN:VCALENDAR
VERSION:2.0
PRODID:-//Technology, Internet, &amp; Policy - ECPv6.15.13//NONSGML v1.0//EN
CALSCALE:GREGORIAN
METHOD:PUBLISH
X-WR-CALNAME:Technology, Internet, &amp; Policy
X-ORIGINAL-URL:https://psatip.uk
X-WR-CALDESC:Events for Technology, Internet, &amp; Policy
REFRESH-INTERVAL;VALUE=DURATION:PT1H
X-Robots-Tag:noindex
X-PUBLISHED-TTL:PT1H
BEGIN:VTIMEZONE
TZID:Europe/London
BEGIN:DAYLIGHT
TZOFFSETFROM:+0000
TZOFFSETTO:+0100
TZNAME:BST
DTSTART:20230326T010000
END:DAYLIGHT
BEGIN:STANDARD
TZOFFSETFROM:+0100
TZOFFSETTO:+0000
TZNAME:GMT
DTSTART:20231029T010000
END:STANDARD
BEGIN:DAYLIGHT
TZOFFSETFROM:+0000
TZOFFSETTO:+0100
TZNAME:BST
DTSTART:20240331T010000
END:DAYLIGHT
BEGIN:STANDARD
TZOFFSETFROM:+0100
TZOFFSETTO:+0000
TZNAME:GMT
DTSTART:20241027T010000
END:STANDARD
BEGIN:DAYLIGHT
TZOFFSETFROM:+0000
TZOFFSETTO:+0100
TZNAME:BST
DTSTART:20250330T010000
END:DAYLIGHT
BEGIN:STANDARD
TZOFFSETFROM:+0100
TZOFFSETTO:+0000
TZNAME:GMT
DTSTART:20251026T010000
END:STANDARD
END:VTIMEZONE
BEGIN:VEVENT
DTSTART;TZID=Europe/London:20241218T140000
DTEND;TZID=Europe/London:20241218T153000
DTSTAMP:20260424T033333
CREATED:20241122T084452Z
LAST-MODIFIED:20250530T100033Z
UID:10142-1734530400-1734535800@psatip.uk
SUMMARY:Online Panel: AI Regulation in Practice: Compliance and Governance in the EU and UK
DESCRIPTION:Free\, signup required \nRegistration link: https://www.tickettailor.com/events/technologyinternetpolicygrouptip/1478844 \n  \nThe PSA Specialist Group on Technology\, Internet\, and Politics (PSA TIP) is delighted to invite you to an engaging online panel discussion on “AI Regulation in Practice: Compliance and Governance in the EU and UK.” As the EU and UK continue to shape their regulatory frameworks for artificial intelligence\, understanding how these regulations work in practice is essential for policymakers\, businesses\, and civil society. \nIn this panel\, we will explore the evolving landscape of AI regulation\, focusing specifically on the implementation timeline and compliance requirements of the EU AI Act\, which aims to establish a harmonized framework for the safe and trustworthy use of AI across Europe. We will discuss also the ongoing procedures for setting up the AI Act governance framework (AI Pact\, GPAI Code of Practice\, AI Office\, national authorities). The discussion will also touch on the ongoing debates surrounding the UK’s AI Bill\, which seeks to craft an AI regulatory approach distinct from the EU while balancing innovation and governance. \nThis event will bring together leading experts to explore the challenges and opportunities of implementing AI regulation\, focusing on compliance procedures and effective governance practices across Europe and the UK. Key questions will include: What are the best strategies for ensuring compliance with the EU AI Act? How will the timeline for the Act’s implementation affect businesses across the EU? How are UK stakeholders adapting to the evolving discussions around the UK’s AI Bill? What role do ethics and transparency play in AI governance? \nOur panelists will share their insights into the practical implications of AI governance\, offering perspectives from think tanks\, academia\, and NGOs active in shaping AI policy. Attendees will gain an in-depth understanding of the current regulatory environment and how it impacts the development and deployment of AI technologies in various sectors. \nWhether you are a policymaker\, industry professional\, academic\, or simply interested in the future of AI governance\, this panel will provide valuable insights into how regulations are being shaped and implemented on both sides of the Channel. \nDate: 18 December 2024 \nTime: 2:00 pm to 3:30 pm BST / 3:00 pm to 4:30 pm CET \nOnline: Zoom  (link will be provided upon free registration to the event on Ticket Tailor) \n  \nPanellists: \n\nConnor Dunlop – European Public Policy Lead\, Ada Lovelace Institute (UK)\nTekla Emborg – EU Fellow\, Future of Life Institute\nFrancesca Fanucci – Senior Legal Advisor\, ECNL | European Center for Not-For-Profit Law Stichting (NL)\nInga Ulnicane – Research Fellow\, University of Birmingham\n\nChair and moderator: Giulia Sandri\, Technology\, Internet\, and Politics Group & Research Fellow and Scientific Advisor & Research fellow\, Université libre de Bruxelles\, Belgium
URL:https://psatip.uk/event/online-panel-ai-regulation-in-practice-compliance-and-governance-in-the-eu-and-uk/
LOCATION:Online/Virtual
CATEGORIES:Seminars,Webinars
ATTACH;FMTTYPE=image/jpeg:https://psatip.uk/wp-content/uploads/2024/11/qi5d8fumqzhz8r2wwj0t.jpg
ORGANIZER;CN="Technology%2C Internet%2C & Policy Group":MAILTO:tip@psa.ac.uk
END:VEVENT
END:VCALENDAR