BEGIN:VCALENDAR
VERSION:2.0
PRODID:-//Technology, Internet, &amp; Policy - ECPv6.15.13//NONSGML v1.0//EN
CALSCALE:GREGORIAN
METHOD:PUBLISH
X-ORIGINAL-URL:https://psatip.uk
X-WR-CALDESC:Events for Technology, Internet, &amp; Policy
REFRESH-INTERVAL;VALUE=DURATION:PT1H
X-Robots-Tag:noindex
X-PUBLISHED-TTL:PT1H
BEGIN:VTIMEZONE
TZID:Europe/London
BEGIN:DAYLIGHT
TZOFFSETFROM:+0000
TZOFFSETTO:+0100
TZNAME:BST
DTSTART:20240331T010000
END:DAYLIGHT
BEGIN:STANDARD
TZOFFSETFROM:+0100
TZOFFSETTO:+0000
TZNAME:GMT
DTSTART:20241027T010000
END:STANDARD
BEGIN:DAYLIGHT
TZOFFSETFROM:+0000
TZOFFSETTO:+0100
TZNAME:BST
DTSTART:20250330T010000
END:DAYLIGHT
BEGIN:STANDARD
TZOFFSETFROM:+0100
TZOFFSETTO:+0000
TZNAME:GMT
DTSTART:20251026T010000
END:STANDARD
BEGIN:DAYLIGHT
TZOFFSETFROM:+0000
TZOFFSETTO:+0100
TZNAME:BST
DTSTART:20260329T010000
END:DAYLIGHT
BEGIN:STANDARD
TZOFFSETFROM:+0100
TZOFFSETTO:+0000
TZNAME:GMT
DTSTART:20261025T010000
END:STANDARD
END:VTIMEZONE
BEGIN:VEVENT
DTSTART;TZID=Europe/London:20251202T150000
DTEND;TZID=Europe/London:20251202T161500
DTSTAMP:20260421T102531
CREATED:20251113T132715Z
LAST-MODIFIED:20251113T132715Z
UID:10264-1764687600-1764692100@psatip.uk
SUMMARY:Book Talk: The Politics of Platform Regulation with Robert Gorwa
DESCRIPTION:Robert Gowra in Conversation with Daniel Weissmann\, will discuss The Politics of Platform Regulation. \n  \nJoin the Technology\, Internet\, and Policy Group (TIP) to discuss Robert Gowra’s book ‘The Politics of Platform Regulation: How Governments Shape Online Content Moderation’ and their associated work. His book is driven through stakeholder interviews and FOIs of policy documents across four states\, provides a conceptual and empirical analysis of the important and emerging tech policy terrain of platform regulation: How\, why\, and where exactly is it happening? Why now? And how do we best understand the vast array of strategies being deployed across jurisdictions to tackle this issue? \nYou can find the book here. \nRobert Gorwa is a postdoctoral researcher at the Berlin Social Science Center\, and a fellow at the Centre for International Governance Innovation. He studies the politics of technology policy\, with a special interest in platform governance and emerging socio-technical regulatory arrangements in the digital economy. He holds a DPhil from Oxford’s  Department of Politics and International Relations\, and is the author of The Politics of Platform Regulation: How Governments Shape Online Content Moderation\, which was published in 2024 by Oxford University Press.
URL:https://psatip.uk/event/book-talk-the-politics-of-platform-regulation-with-robert-gorwa/
LOCATION:Online/Virtual
CATEGORIES:Webinars
ATTACH;FMTTYPE=image/png:https://psatip.uk/wp-content/uploads/2025/11/Platform-Gov-ticket-tailor.png
ORGANIZER;CN="Technology%2C Internet%2C & Policy Group":MAILTO:tip@psa.ac.uk
END:VEVENT
END:VCALENDAR